BEGIN:VCALENDAR
VERSION:2.0
PRODID:-//Destino naturaleza - ECPv6.15.20//NONSGML v1.0//EN
CALSCALE:GREGORIAN
METHOD:PUBLISH
X-ORIGINAL-URL:https://destinonaturaleza.ar
X-WR-CALDESC:Eventos para Destino naturaleza
REFRESH-INTERVAL;VALUE=DURATION:PT1H
X-Robots-Tag:noindex
X-PUBLISHED-TTL:PT1H
BEGIN:VTIMEZONE
TZID:UTC
BEGIN:STANDARD
TZOFFSETFROM:+0000
TZOFFSETTO:+0000
TZNAME:UTC
DTSTART:20250101T000000
END:STANDARD
END:VTIMEZONE
BEGIN:VEVENT
DTSTART;TZID=UTC:20260214T080000
DTEND;TZID=UTC:20260217T170000
DTSTAMP:20260424T145542
CREATED:20250206T001412Z
LAST-MODIFIED:20260202T193356Z
UID:1168-1771056000-1771347600@destinonaturaleza.ar
SUMMARY:Vuelta al Parque
DESCRIPTION:Te invitamos a hacer una travesía por el Parque Natural provincial  \nIslas y Canales Verdes del Río Uruguay para recorrer 3 de sus islas:  \nIsla Dolores\, la Isla San Genaro y la Isla Campichuelo\, remando en kayak. Esta gran reserva cuenta con una red de refugios únicos en la región\, por su calidad y belleza\, hechos para albergar gente aventurera que quiera estar de visita. \nTambién podremos recorrer senderos interpretativos del ambiente isleño. Viajaremos en kayak a través de un río que varía su forma\, con arroyos\, canales\, islas y grandes cauces donde nos acompañará gran variedad de fauna y flora característica del litoral. \nContemplando el río podremos descubrir colores\, sonidos naturales y sentir el embrujo de un lugar que amansa los corazones. \nDía 1 Te recibiremos en nuestra Base Operativa en la localidad de Colonia Elía a las 10 am. Realizaremos una charla técnica\, revisaremos el equipo y comenzaremos la travesía en kayak hasta la punta norte de la Isla Campichuelo donde se encuentra el refugio Aguará Popé. Allí haremos una parada para almorzar y luego saldremos a remar rumbo a la punta norte de la Isla Dolores\, haciendo un pintoresco recorrido entre camalotes\, enredaderas y selva en galería\, pasando por la isla Dos Hermanas. Al llegar a la punta norte de la Isla Dolores acamparemos en un gran arenal\, refugio de aves playeras y paraíso natural que deleita los corazones. Podrán disfrutar de este gran espacio y por la noche contemplar las estrellas con el sonido de la naturaleza mientras vamos preparando la cena. \nDuchas NO – Señal telefónica POCA – Electricidad hasta que comienza la navegación. \nDía 2 Después de un buen desayuno podremos disponer de tiempo libre para recorrer este inmenso arenal\, contemplar las aves\, disfrutar del agua\, caminar haciendo interpretación de la flora y fauna. Desarmaremos el campamento y emprenderemos la segunda etapa de remo\, iremos recorriendo el este del parque por el canal principal del río Uruguay\, veremos desde el agua la localidad de San Javier y el Parque Nacional Estero Farrapos de la República Oriental del Uruguay. Llegaremos a la Isla San Genaro\, donde se encuentra otro de los refugios. Una vez en allí tendremos tiempo para merendar y preparar nuevamente el campamento. Luego de una rica cena llegará el momento del descanso. \nDuchas NO – Señal telefónica POCA – Electricidad NO \n  \nDía 3 Luego del desayuno iremos preparando los kayaks para volver a navegar hasta el arroyo El Solitario en el centro de la Isla Dolores\, uno de los rincones más prístinos de la reserva\, podremos contemplar las costas vírgenes de vegetación autóctona\, y seguramente algún animal nos sorprenderá. Haremos una parada para almorzar en el refugio que nos falta conocer de la Isla Dolores y a media tarde seguiremos navegando de regreso hasta nuestro campamento de la noche anterior. \n  \nDuchas NO – Señal telefónica POCA – Electricidad cuando finaliza la navegación \nDía 4  Habiendo desayunado saldremos al río Uruguay. Almorzaremos en la costa y finalmente volveremos al Camping Campichuelo para concluir la travesía\, despedirnos e iniciar viaje de vuelta a casa aproximadamente a las 15hs. \nKilómetros a recorrer en esta travesía \nKayak: 50 km aproximadamente. \nSenderismo: 3 km aproximadamente
URL:https://destinonaturaleza.ar/event/vuelta-al-parque/
LOCATION:colonia elia Entre rios
CATEGORIES:Kayak - Nivel II
ATTACH;FMTTYPE=image/png:https://destinonaturaleza.ar/wp-content/uploads/1.png
END:VEVENT
BEGIN:VEVENT
DTSTART;TZID=UTC:20260321T080000
DTEND;TZID=UTC:20260323T170000
DTSTAMP:20260424T145542
CREATED:20250912T114641Z
LAST-MODIFIED:20260202T193651Z
UID:1271-1774080000-1774285200@destinonaturaleza.ar
SUMMARY:Multiaventura en Río Uruguay
DESCRIPTION:Te invitamos a hacer una travesía multiaventura por el Parque Natural\nProvincial Islas y Canales Verdes del Río Uruguay para recorrer sus islas y hacernos parte del gran río mesopotámico. \nEsta gran reserva cuenta con una red de senderos y refugios únicos en la región\, por su calidad y belleza\, hechos para albergar gente aventurera que quiera estar de visita. \nViajaremos en kayak y senderos a través de un río e islas que varían su forma\, con arroyos\, canales\, islas y grandes cauces donde nos acompañará gran variedad de fauna y flora característica del litoral.\nMientras que los senderos en bicicleta nos llevarán a conocer los vestigios de las canteras que habitan las costas entrerrianas.\nContemplando el río podremos descubrir colores\, sonidos naturales y sentir el embrujo de un lugar que amansa los corazones.
URL:https://destinonaturaleza.ar/event/multiaventura-en-colonia-elia/
LOCATION:colonia elia Entre rios
CATEGORIES:Kayak - Nivel II
ATTACH;FMTTYPE=image/png:https://destinonaturaleza.ar/wp-content/uploads/Destino-naturaleza-Flyers-Post-de-Instagram-45-3.png
END:VEVENT
BEGIN:VEVENT
DTSTART;TZID=UTC:20260417T090000
DTEND;TZID=UTC:20260422T170000
DTSTAMP:20260424T145542
CREATED:20220804T191524Z
LAST-MODIFIED:20250902T204258Z
UID:692-1776416400-1776877200@destinonaturaleza.ar
SUMMARY:Gran cruce del Iberá en kayak
DESCRIPTION:Esta es una aventura para explorar el gran Iberá remando en kayak 67km\, uniendo las dos costas\, desde el Oeste al Este. Conectando ríos\, canales llegando a las grandes lagunas . Visitando comunidades y sitios arqueológicos.\nSiempre acompañados por guías locales. \nDía 1: te recibiremos en la localidad correntina de “Concepción del Yaguareté Corá” a las 9:00hs del 29 de marzo\, con un buen desayuno en un comedor familiar (comedor ore – 3 hermanos). Organizaremos las jornadas de aventura en el Iberá\, dejaremos los automóviles en un lugar seguro y nos trasladaremos en 4×4 al estero distante unos 25km del pueblo. \nUna vez allí\, en el “Puerto July Cué” del “Portal Carambolas”\, iniciaremos la remada en el río Carambolitas. \nPararemos a almorzar y seguiremos con nuestra navegación hasta el encuentro con el Río Carambolas. A la tardecita finalizaremos nuestra primera etapa de remo en una Isla llamada “Tacuaral Guazú”\, donde merendaremos y  armaremos campamento. Luego podremos disfrutar del hermoso paisaje del estero mientras vamos preparando la cena y el fogón. \nSerán unas 4 hs de flotación. \n  \nDía 2: luego del desayuno\, comenzaremos a navegar hacia el sur del estero\, iremos viendo en este tramo cómo el río comienza a cambiar volviéndose más recto y ancho. Pararemos a almorzar en un pequeño islote para regresar a remar y finalizar el día en la zona de la “Laguna Medina” en el “Paraje Yahaveré” donde todavía habitan lugareños. Podremos compartir una comida y conocer parte de su historia en este lugar. \nSerán unas cinco horas de flotación. \n  \nDía 3: desayunaremos y partiremos hacia la confluencia con la “Laguna Trín” que es la más grande del sur del estero. Pararemos a almorzar en un embalsado (isla flotante que se genera con la acumulación de plantas y sedimentos) y seguiremos remando hasta llegar a la “Isla del Disparo”. Este lugar está acondicionado con instalaciones sanitarias\, quincho\, muelle y mirador. \nSaldremos a contemplar la puesta del sol desde los kayak para sentir en todo su esplendor la belleza del gran Iberá. \nCompartiremos una rica comida en camaradería. \nSerán unas 4hs de flotación. \nDía 4: el último día luego del desayuno\, desarmaremos el campamento y regresaremos  al paraje Yahaveré donde almorzaremos. Al finalizar podremos ducharnos y volveremos en transfer a “Concepción del Yaguareté Corá” donde finalizarán nuestros servicios aproximadamente a las 16:00hs\, para que puedan emprender viaje\, o quienes dispongan de tiempo\, visitar el Centro de interpretación del Iberá\, el Museo Histórico y/o el Museo de Campo.
URL:https://destinonaturaleza.ar/event/gran-cruce-del-ibera-en-kayak/
LOCATION:Concepción del Yaguareté Cora\, Concepción\, Corrientes\, Argentina
CATEGORIES:Kayak - Nivel I,Kayak - Nivel II
ATTACH;FMTTYPE=image/jpeg:https://destinonaturaleza.ar/wp-content/uploads/IMG-20191014-WA0035-2.jpg
END:VEVENT
BEGIN:VEVENT
DTSTART;TZID=UTC:20260501T080000
DTEND;TZID=UTC:20260503T170000
DTSTAMP:20260424T145542
CREATED:20220512T133403Z
LAST-MODIFIED:20260223T211921Z
UID:239-1777622400-1777827600@destinonaturaleza.ar
SUMMARY:Explorando el Ibera en kayak
DESCRIPTION:Una aventura para sentir la naturaleza\, en el corazón de Corrientes.\nVamos a vivir tres días de contacto pleno con el Estero y su gente\, acompañados de buenas historias\, saboreando ricas comidas y contemplando el paisaje mas bello del Ibera.\nTe recibimos en el Pueblo Histórico de Concepción del Yaguareté Corá\, un pueblo autentico! Por su cultura y su historia\, que vamos a ir descubriendo de la mano de los guías locales que nos irán transmitiendo sus sentimientos\, todo el amor a su pueblo y su tierra.\nLa aventura comienza por la mañana\, te recibiremos con un rico desayuno\, para comenzar a planificar las jornadas y seguir nuestro itinerario hacia el estero\, donde comenzaremos a remar en el rio Carambolitas\, cerca de medio día.\nIremos explorando las aguas que brillan en nuestros kayaks de travesía\, contemplando la flora y fauna tan rica del humedal. A media tarde llegaremos a un refugio en un paraje donde todavía viven familias que conviven con la naturaleza desde hace varias generaciones y donde solo se habla Guaraní.\nAcamparemos y disfrutaremos de las noches estrelladas que seguramente te van a sorprender\, cenaremos comidas asadas y podremos escuchar lindas historias del lugar y su gente.\nAl día siguiente luego del desayuno\, partiremos en los kayaks hacia el interior profundo del estero donde la naturaleza se expresa de forma exuberante\, almorzaremos en un islote y por la tarde regresaremos al refugio\, merendaremos unas ricas tortas fritas e iremos preparando el fogón para la cena.\nEl ultimo día luego del desayuno dejaremos el refugio para regresar en kayak hacia el puerto donde nos esperan para regresar al pueblo\, tendremos un almuerzo de despedida\, en la casa de una familia del lugar que nos agasajaran y nos harán sentir como en casa.\nFinalmente podrán asearse y ducharse para el regreso a casa.\nFinal de nuestros servicios.\nOpcional: \nVisitas al Centro de interpretación del Iberá y Museo Histórico de Concepción del Yaguarete Corá.\nIncluye: \n\n3 días / 2 noches en campamento organizado con opción a dormir en carpa o refugio.\nTodas las comidas incluidas durante la travesía con bebidas\nSeguros\nKayaks travesía marca MyG\, dobles y simples\nGuías de kayak y guías vaquéanos locales\,\nApoyo de lancha.\nCarpas\nTraslados internos\nCaminatas por los bañados\nUso de duchas al regreso
URL:https://destinonaturaleza.ar/event/explorando-el-ibera-en-kayak/
LOCATION:Esteros del Iberá\, Esteros del Iberá\, Corrientes\, W3342XAH\, Argentina
CATEGORIES:Kayak - Nivel II
ATTACH;FMTTYPE=image/jpeg:https://destinonaturaleza.ar/wp-content/uploads/2022/08/jaa9.jpg
END:VEVENT
END:VCALENDAR